BEGIN:VCALENDAR
VERSION:2.0
PRODID:-//Building &amp; Facilities News - ECPv6.15.20//NONSGML v1.0//EN
CALSCALE:GREGORIAN
METHOD:PUBLISH
X-WR-CALNAME:Building &amp; Facilities News
X-ORIGINAL-URL:https://buildingandfacilitiesnews.co.uk
X-WR-CALDESC:Events for Building &amp; Facilities News
REFRESH-INTERVAL;VALUE=DURATION:PT1H
X-Robots-Tag:noindex
X-PUBLISHED-TTL:PT1H
BEGIN:VTIMEZONE
TZID:Europe/London
BEGIN:DAYLIGHT
TZOFFSETFROM:+0000
TZOFFSETTO:+0100
TZNAME:BST
DTSTART:20250330T010000
END:DAYLIGHT
BEGIN:STANDARD
TZOFFSETFROM:+0100
TZOFFSETTO:+0000
TZNAME:GMT
DTSTART:20251026T010000
END:STANDARD
BEGIN:DAYLIGHT
TZOFFSETFROM:+0000
TZOFFSETTO:+0100
TZNAME:BST
DTSTART:20260329T010000
END:DAYLIGHT
BEGIN:STANDARD
TZOFFSETFROM:+0100
TZOFFSETTO:+0000
TZNAME:GMT
DTSTART:20261025T010000
END:STANDARD
BEGIN:DAYLIGHT
TZOFFSETFROM:+0000
TZOFFSETTO:+0100
TZNAME:BST
DTSTART:20270328T010000
END:DAYLIGHT
BEGIN:STANDARD
TZOFFSETFROM:+0100
TZOFFSETTO:+0000
TZNAME:GMT
DTSTART:20271031T010000
END:STANDARD
END:VTIMEZONE
BEGIN:VEVENT
DTSTART;TZID=Europe/London:20260912T090000
DTEND;TZID=Europe/London:20260913T170000
DTSTAMP:20260421T153409
CREATED:20251110T164606Z
LAST-MODIFIED:20251110T164606Z
UID:4006-1789203600-1789318800@buildingandfacilitiesnews.co.uk
SUMMARY:Build It Live
DESCRIPTION:For more than 30 years\, Build It magazine has been providing expert guidance\, inspiration and practical self build advice for those looking to build their own home\, renovate a property or undertake an extension or conversion project. \nAs Britain’s longest running self build magazine\, Build It is an indispensable monthly guide to custom home building\, DIY and renovation. \nBringing the magazine to life\, Build It Live is the annual exhibition\, designed to provide face-to-face inspiration\, thousands of products and expert consultations all under one roof. We’re proud to be the UK’s most practical and focused self build exhibition. \nOur interactive exhibitions take place annually in Kent\, Malvern and Exeter\, and offer a wide range of one-to-one sessions and advice clinics for anyone looking to self build\, renovate or extend their home. Learn more about build costs\, basements\, extensions and heating with these handy clinics\, or attend one of our free seminars and workshops\, which run throughout the weekend and cover topics like how to build a sustainable home and how to find the perfect plot. \nThere’s never been a better time to create the home of your dreams. Seek the inspiration you need to create a property that you will never want to leave\, with Build It Live.
URL:https://buildingandfacilitiesnews.co.uk/event/build-it-live/
LOCATION:Westpoint Arena\, Clyst St Mary\, Exeter\, Devon\, EX5 1DJ\, United Kingdom
ATTACH;FMTTYPE=image/jpeg:https://buildingandfacilitiesnews.co.uk/wp-content/uploads/2025/11/BuildItLive_1012_01.jpg
ORGANIZER;CN="Castle Media":MAILTO:builditlive@castlemedia.co.uk
END:VEVENT
END:VCALENDAR