BEGIN:VCALENDAR
VERSION:2.0
PRODID:-//Building &amp; Facilities News - ECPv6.15.20//NONSGML v1.0//EN
CALSCALE:GREGORIAN
METHOD:PUBLISH
X-WR-CALNAME:Building &amp; Facilities News
X-ORIGINAL-URL:https://buildingandfacilitiesnews.co.uk
X-WR-CALDESC:Events for Building &amp; Facilities News
REFRESH-INTERVAL;VALUE=DURATION:PT1H
X-Robots-Tag:noindex
X-PUBLISHED-TTL:PT1H
BEGIN:VTIMEZONE
TZID:Europe/London
BEGIN:DAYLIGHT
TZOFFSETFROM:+0000
TZOFFSETTO:+0100
TZNAME:BST
DTSTART:20250330T010000
END:DAYLIGHT
BEGIN:STANDARD
TZOFFSETFROM:+0100
TZOFFSETTO:+0000
TZNAME:GMT
DTSTART:20251026T010000
END:STANDARD
BEGIN:DAYLIGHT
TZOFFSETFROM:+0000
TZOFFSETTO:+0100
TZNAME:BST
DTSTART:20260329T010000
END:DAYLIGHT
BEGIN:STANDARD
TZOFFSETFROM:+0100
TZOFFSETTO:+0000
TZNAME:GMT
DTSTART:20261025T010000
END:STANDARD
BEGIN:DAYLIGHT
TZOFFSETFROM:+0000
TZOFFSETTO:+0100
TZNAME:BST
DTSTART:20270328T010000
END:DAYLIGHT
BEGIN:STANDARD
TZOFFSETFROM:+0100
TZOFFSETTO:+0000
TZNAME:GMT
DTSTART:20271031T010000
END:STANDARD
END:VTIMEZONE
BEGIN:VEVENT
DTSTART;TZID=Europe/London:20260603T090000
DTEND;TZID=Europe/London:20260604T170000
DTSTAMP:20260421T105414
CREATED:20250910T144830Z
LAST-MODIFIED:20250910T150014Z
UID:3944-1780477200-1780592400@buildingandfacilitiesnews.co.uk
SUMMARY:Digital Construction Week
DESCRIPTION:Learn about the latest trends in digital construction\, from BIM and AI to robotics and sustainable solutions. \nMeet companies driving architecture and design\, construction\, engineering and operation forward. Discover how to use new technology to improve your projects\, teams\, business and the built environment. \nDigital Construction Week is at Excel London on 3-4 June 2026. \nGet up-to-speed on the latest trends shaping the future of the built environment. \nExperience live demonstrations. And source cutting-edge technology from over 150 disruptive technology brands. \nCollaborate\, connect and share ideas with over 6\,850 attendees from across the digital built environment community. \nSource new products from 150+ disruptive technology brands for the built environment. \nThe education programme at DCW is designed to put you in the front row of innovation for the built environment. Choose from 200 free-to-attend talks\, workshops and demos across to theatres. And top up your CPD points along the way.
URL:https://buildingandfacilitiesnews.co.uk/event/digital-construction-week/
LOCATION:ExCeL\, Royal Victoria Dock\, London\, E16 1XL\, United Kingdom
ATTACH;FMTTYPE=image/jpeg:https://buildingandfacilitiesnews.co.uk/wp-content/uploads/2025/09/DigitalConstructionWeek_1010_04.jpg
ORGANIZER;CN="Diversified UK & Europe":MAILTO:info@divcom.co.uk
END:VEVENT
BEGIN:VEVENT
DTSTART;TZID=Europe/London:20260623T090000
DTEND;TZID=Europe/London:20260625T170000
DTSTAMP:20260421T105414
CREATED:20251008T153141Z
LAST-MODIFIED:20251008T153141Z
UID:3982-1782205200-1782406800@buildingandfacilitiesnews.co.uk
SUMMARY:InstallerSHOW
DESCRIPTION:Thank you to everyone who joined us for InstallerSHOW 2025 – our biggest and best event yet! Over three packed days\, more than 31\,000 industry professionals explored the latest innovations across heat\, water\, air\, energy\, and the built environment. With 800+ exhibitors\, live demos\, and thought-leading content sessions\, the 2025 show was a landmark moment for the sector. \nPlans are in full force for InstallerSHOW 2026\, returning to the NEC Birmingham from 23rd to 25th June. Whether you’re looking to launch new products\, build relationships\, or lead industry conversations – now is the time to get involved to secure your preferred location!  \nCan’t wait until next year? Join us at InstallerFESTIVAL — a one-day celebration of industry success with installers\, manufacturers\, and merchants. Find out how to get involved today. \nLooking to Exhibit! Get in touch with our team to secure your space early. \nWant to stay up-to-date on all things InstallerSHOW? Subscribe to our mailing list to be the first to hear about 2026 announcements.
URL:https://buildingandfacilitiesnews.co.uk/event/installershow-2/
LOCATION:NEC\, Pendigo Way\, Marston Green\, Birmingham\, B40 1NT\, United Kingdom
ATTACH;FMTTYPE=image/jpeg:https://buildingandfacilitiesnews.co.uk/wp-content/uploads/2025/10/InstallerSHOW_1011_01.jpg
ORGANIZER;CN="Nineteen":MAILTO:info@nineteengroup.com
END:VEVENT
BEGIN:VEVENT
DTSTART;TZID=Europe/London:20260627T100000
DTEND;TZID=Europe/London:20260628T163000
DTSTAMP:20260421T105414
CREATED:20250910T102444Z
LAST-MODIFIED:20250910T102444Z
UID:3940-1782554400-1782664200@buildingandfacilitiesnews.co.uk
SUMMARY:Homebuilding & Renovating Show
DESCRIPTION:Run by experienced self-builders and renovators\, the Homebuilding & Renovating Shows are here to help you get your project off the ground. Established in 1990\, Homebuilding & Renovating is the UK’s leading brand for anyone looking to build their own home or improve their current one. \nWe now host eight annual exhibitions across the UK\, each packed with hundreds of suppliers\, free expert advice\, and inspiring seminars — all under one roof (a definite plus given the British weather!). \nOur shows take place in Farnborough\, London\, Birmingham\, Glasgow\, Surrey\, Harrogate\, Somerset\, and from 2025\, Edinburgh will return to the calendar. At every event\, you’ll find a full programme of free seminars and our popular Ask the Experts hub\, where you can book one-to-one advice sessions with a panel of specialists\, including architects\, planning consultants\, renewable energy experts\, and heating engineers. \nFrom practical tips to inspiring advice and the latest products\, we’ve got it all under one roof at the Homebuilding & Renovating Show\, the go-to exhibition for you as a self builders or renovator. \nNo matter what stage your project is at\, we’ll help you to bring it to life! Come along for tailored\, one-to-one advice; browse 1000s of new and innovative products to improve your home; and discover the ins and outs of everything from planning regulations for extensions and managing renovation budgets\, to stylish kitchen design and integrating underfloor heating.
URL:https://buildingandfacilitiesnews.co.uk/event/homebuilding-renovating-show-7/
LOCATION:Sandown Park Racecourse\, Portsmouth Road\, Esher\, Surrey\, KT10 9AJ\, United Kingdom
ATTACH;FMTTYPE=image/jpeg:https://buildingandfacilitiesnews.co.uk/wp-content/uploads/2025/09/HomebuildingRenovatingShow_1010_01.jpg
END:VEVENT
END:VCALENDAR